BEGIN:VCALENDAR
VERSION:2.0
METHOD:PUBLISH
PRODID:-//enovanet//eMagnum//FR
BEGIN:VEVENT
DTSTAMP:202651T100000
DTSTART:202651T100000
DTEND:202653T180000
LOCATION:Champagne Météyer -  -  
SUMMARY:CHAMPAGNE METEYER
DESCRIPTION:Rencontre CHAMPAGNE METEYER \n 
 "Tournoi International de Bridge" \n\n 
 Plus d'information sur : https://.www.champagne-meteyer.com
UID:evenement73
END:VEVENT
END:VCALENDAR
