BEGIN:VCALENDAR
VERSION:2.0
METHOD:PUBLISH
PRODID:-//enovanet//eMagnum//FR
BEGIN:VEVENT
DTSTAMP:20260523T110000
DTSTART:20260523T110000
DTEND:20260523T180000
LOCATION:Champagne Météyer -  - 02850 Trélou-sur-Marne
SUMMARY:CHAMPAGNE METEYER
DESCRIPTION:Rencontre avec CHAMPAGNE METEYER \n 
 "Pique-Nique des Vignerons Indépendants" \n\n 
 Plus d'information sur : https://www.champagne-meteyer.com
UID:evenement72
END:VEVENT
END:VCALENDAR
