BEGIN:VCALENDAR
VERSION:2.0
METHOD:PUBLISH
PRODID:-//enovanet//eMagnum//FR
BEGIN:VEVENT
DTSTAMP:2026530T100000
DTSTART:2026530T100000
DTEND:2026530T140000
LOCATION:La FÃ¨re -  - 02800 La FÃ¨re
SUMMARY:CHAMPAGNE METEYER
DESCRIPTION:Rencontre CHAMPAGNE METEYER \n 
 "Rencontre Champagne Météyer" \n\n 
 Plus d'information sur : https://.www.champagne-meteyer.com
UID:evenement71
END:VEVENT
END:VCALENDAR
