BEGIN:VCALENDAR
VERSION:2.0
METHOD:PUBLISH
PRODID:-//enovanet//eMagnum//FR
BEGIN:VEVENT
DTSTAMP:2026523T110000
DTSTART:2026523T110000
DTEND:2026523T180000
LOCATION: -  - 02850 TrÃ©lou-sur-Marne
SUMMARY:CHAMPAGNE METEYER
DESCRIPTION:Rencontre CHAMPAGNE METEYER \n 
 "Independent Winegrowers’ Picnic" \n\n 
 Plus d'information sur : https://.www.champagne-meteyer.com
UID:evenement33
END:VEVENT
END:VCALENDAR
